BEGIN:VCALENDAR
VERSION:2.0
METHOD:PUBLISH
PRODID:-//hacksw/handcal//NONSGML v1.0//EN
BEGIN:VEVENT
DTSTAMP:20260423T111807Z
DTSTART:20111009T190000Z
DTEND:20111009T040000Z
UID:20111009T190000Z-20111009T040000Z-99@akronago.org
SUMMARY:The University of Akron Symphony Orchestra
DESCRIPTION:An all-American program featuring “Concert Piece for Organ
  and Orchestra” by Leo Sowerby\nValerie Thorson\, organ\nGuy Victor Bo
 rdo\, conductor
X-ALT-DESC;FMTTYPE=text/html:<div class=page-restrict-output><p>An all
 -American program featuring “Concert Piece for Organ and Orchestra” by
  Leo Sowerby<br>\nValerie Thorson\, organ<br>\nGuy Victor Bordo\, cond
 uctor</p>\n</div>
URL:https://akronago.org/events/99/the-university-of-akron-symphony-or
 chestra/?lang=en
ATTACH:https://akronago.org/events/99/the-university-of-akron-symphony
 -orchestra/?lang=en
LOCATION:First Congregational (Akron)\, 292 E Market St\, Akron
END:VEVENT
END:VCALENDAR
