BEGIN:VCALENDAR
VERSION:2.0
METHOD:PUBLISH
PRODID:-//hacksw/handcal//NONSGML v1.0//EN
BEGIN:VEVENT
DTSTAMP:20260423T111725Z
DTSTART:20110922T233000Z
DTEND:20110922T040000Z
UID:20110922T233000Z-20110922T040000Z-98@akronago.org
SUMMARY:Akron Baroque
DESCRIPTION:Akron Baroque\nAmy Glick\, violin\nGuy Victor Bordo\, cond
 uctor\n\nMusic of Vivaldi\, Durante\, Muffat\, & Telemann
X-ALT-DESC;FMTTYPE=text/html:<div class=page-restrict-output><p><a hre
 f=http://www.akronbaroque.org/ target=_blank>Akron Baroque</a><br>\nAm
 y Glick\, violin<br>\nGuy Victor Bordo\, conductor</p>\n<p>Music of Vi
 valdi\, Durante\, Muffat\, & Telemann</p>\n</div>
URL:https://akronago.org/events/98/akron-baroque/?lang=en
ATTACH:https://akronago.org/events/98/akron-baroque/?lang=en
LOCATION:First Congregational (Akron)\, 292 E Market St\, Akron
END:VEVENT
END:VCALENDAR
