BEGIN:VCALENDAR
VERSION:2.0
METHOD:PUBLISH
PRODID:-//hacksw/handcal//NONSGML v1.0//EN
BEGIN:VEVENT
DTSTAMP:20260423T111613Z
DTSTART:20110917T130000Z
DTEND:20110918T160000Z
UID:20110917T130000Z-20110918T160000Z-96@akronago.org
SUMMARY:Helen Kemp
DESCRIPTION:Saturday\, Sept 17\, 9:00 a.m.-12 noon\nHelen Kemp will pr
 esent a session on techniques and tricks of the trade. This will be fo
 llowed by an anthem reading session. Lunch will end the workshop.\n\nC
 ost is $20/person which includes light refreshments on Friday evening 
 and lunch on Saturday. Checks may be made payable to Holy Trinity Luth
 eran Church. \n\nReservations required by September 13th in order to h
 ave a proper count for lunch and for anthem reading packets. Call Jean
 nie Kienzle at Holy Trinity Lutheran Church: 330-837-5154 or email her
  at runninchick@sbcglobal.net.\n\nThis event is co-sponsored by the No
 rtheastern Ohio Chapter of the Choristers Guild.
X-ALT-DESC;FMTTYPE=text/html:<div class=page-restrict-output><p><stron
 g>Saturday\, Sept 17\, 9:00 a.m.-12 noon</strong><br>\n<a href=http://
 www.choristersguild.org/_webapp_1337473/Kemp\,_Helen>Helen Kemp</a> wi
 ll present a session on techniques and tricks of the trade. This will 
 be followed by an anthem reading session. Lunch will end the workshop.
 </p>\n<p>Cost is $20/person which includes light refreshments on Frida
 y evening and lunch on Saturday. Checks may be made payable to Holy Tr
 inity Lutheran Church. </p>\n<p>Reservations required by September 13t
 h in order to have a proper count for lunch and for anthem reading pac
 kets. Call Jeannie Kienzle at Holy Trinity Lutheran Church: 330-837-51
 54 or email her at <a href=&#x6d\;&#x61\;&#x69\;&#x6c\;&#x74\;&#x6f\;&
 #x3a\;&#x72\;&#x75\;&#x6e\;&#x6e\;&#x69\;&#x6e\;&#x63\;&#x68\;&#x69\;&
 #x63\;&#x6b\;&#x40\;&#x73\;&#x62\;&#x63\;&#103\;&#108\;&#111\;&#98\;&#
 97\;&#108\;&#46\;&#110\;&#101\;&#116\;>ru&#110\;&#110\;&#105\;&#x6e\;&
 #x63\;&#x68\;&#x69\;ck&#64\;&#115\;&#98\;&#x63\;&#x67\;&#x6c\;&#x6f\;b
 a&#108\;&#46\;&#110\;&#x65\;&#x74\;</a>.</p>\n<p>This event is co-spon
 sored by the Northeastern Ohio Chapter of the Choristers Guild.</p>\n<
 /div>
URL:https://akronago.org/events/96/helen-kemp/?lang=en
ATTACH:https://akronago.org/events/96/helen-kemp/?lang=en
LOCATION:Holy Trinity Lutheran (Akron)\, 50 North Prospect St\, Akron
END:VEVENT
END:VCALENDAR
