BEGIN:VCALENDAR
VERSION:2.0
METHOD:PUBLISH
PRODID:-//hacksw/handcal//NONSGML v1.0//EN
BEGIN:VEVENT
DTSTAMP:20260423T111739Z
DTSTART:20120506T190000Z
DTEND:20120506T040000Z
UID:20120506T190000Z-20120506T040000Z-95@akronago.org
SUMMARY:Sixth Annual Three High School Choir Concert
DESCRIPTION:Festival of Music: The Sixth Annual High School Choir Fest
 ival\nCopley-Fairlawn\, Revere\, and Firestone Choirs\nBasil Kochan\, 
 Dr. Deborah DeVore\, and Sally Schneider\, directors\n\nThe three high
  school choirs and their superb directors repeatedly thrill audiences 
 with their individual performances and mass group selection.
X-ALT-DESC;FMTTYPE=text/html:<div class=page-restrict-output><p><stron
 g>Festival of Music: The Sixth Annual High School Choir Festival</stro
 ng><br>\n<strong>Copley-Fairlawn\, Revere\, and Firestone Choirs</stro
 ng><br>\nBasil Kochan\, Dr. Deborah DeVore\, and Sally Schneider\, dir
 ectors</p>\n<p>The three high school choirs and their superb directors
  repeatedly thrill audiences with their individual performances and ma
 ss group selection.</p>\n</div>
URL:https://akronago.org/events/95/sixth-annual-three-high-school-choi
 r-concert/?lang=en
ATTACH:https://akronago.org/events/95/sixth-annual-three-high-school-c
 hoir-concert/?lang=en
LOCATION:Fairlawn Lutheran\, 3415 W Market St\, Fairlawn\, OH
END:VEVENT
END:VCALENDAR
