BEGIN:VCALENDAR
VERSION:2.0
METHOD:PUBLISH
PRODID:-//hacksw/handcal//NONSGML v1.0//EN
BEGIN:VEVENT
DTSTAMP:20260423T111726Z
DTSTART:20120304T190000Z
DTEND:20120304T040000Z
UID:20120304T190000Z-20120304T040000Z-94@akronago.org
SUMMARY:Valparaiso University Choir Concert
DESCRIPTION:Spring Tour 2012\nDr. Christopher M. Cock\, director\n\nTh
 e Valparaiso University Chorale is among the top Lutheran collegiate c
 hoirs in the U.S. performing the highest standard of choral art. The C
 horale has received international acclaim and served three residencies
  at the Thomaskirche in Leipzig\, where J.S. Bach served as cantor.
X-ALT-DESC;FMTTYPE=text/html:<div class=page-restrict-output><p><stron
 g>Spring Tour 2012</strong><br>\nDr. Christopher M. Cock\, director</p
 >\n<p>The <a href=http://www.valpo.edu/music/ensembles/vu_chorale.php 
 target=_blank>Valparaiso University Chorale</a> is among the top Luthe
 ran collegiate choirs in the U.S. performing the highest standard of c
 horal art. The Chorale has received international acclaim and served t
 hree residencies at the Thomaskirche in Leipzig\, where J.S. Bach serv
 ed as cantor.</p>\n</div>
URL:https://akronago.org/events/94/valparaiso-university-choir-concert
 /?lang=en
ATTACH:https://akronago.org/events/94/valparaiso-university-choir-conc
 ert/?lang=en
LOCATION:Fairlawn Lutheran\, 3415 W Market St\, Fairlawn\, OH
END:VEVENT
END:VCALENDAR
