BEGIN:VCALENDAR
VERSION:2.0
METHOD:PUBLISH
PRODID:-//hacksw/handcal//NONSGML v1.0//EN
BEGIN:VEVENT
DTSTAMP:20260423T111657Z
DTSTART:20120212T190000Z
DTEND:20120212T040000Z
UID:20120212T190000Z-20120212T040000Z-93@akronago.org
SUMMARY:Falls River Brass Quintet & Organ
DESCRIPTION:Gigout\, Handel\, and Mozart\nFalls River Brass Quintet & 
 Organ (with Gary Pinter\, organist at Fairlawn Lutheran Church)\n\nThe
  Falls River Brass will present selections by Gigout\, Handel\, and Mo
 zart\, accompanied by organ. They will also feature several patriotic 
 pieces and compositions without organ. Additional organ solos by Charp
 entier and Walton will complete the program.
X-ALT-DESC;FMTTYPE=text/html:<div class=page-restrict-output><p><stron
 g>Gigout\, Handel\, and Mozart</strong><br>\nFalls River Brass Quintet
  & Organ (with Gary Pinter\, organist at Fairlawn Lutheran Church)</p>
 \n<p>The Falls River Brass will present selections by Gigout\, Handel\
 , and Mozart\, accompanied by organ. They will also feature several pa
 triotic pieces and compositions without organ. Additional organ solos 
 by Charpentier and Walton will complete the program.</p>\n</div>
URL:https://akronago.org/events/93/falls-river-brass-quintet-organ/?la
 ng=en
ATTACH:https://akronago.org/events/93/falls-river-brass-quintet-organ/
 ?lang=en
LOCATION:Fairlawn Lutheran\, 3415 W Market St\, Fairlawn\, OH
END:VEVENT
END:VCALENDAR
