BEGIN:VCALENDAR
VERSION:2.0
METHOD:PUBLISH
PRODID:-//hacksw/handcal//NONSGML v1.0//EN
BEGIN:VEVENT
DTSTAMP:20260423T111636Z
DTSTART:20111204T190000Z
DTEND:20111204T040000Z
UID:20111204T190000Z-20111204T040000Z-92@akronago.org
SUMMARY:Master Singers Chorale
DESCRIPTION:Et in terra pax ... Let There Be Peace on Earth\nMaster Si
 ngers Chorale\nJ. D. Goddard\, director\n\nThe MSI Chorale will presen
 t original compositions expressly written for this concert primarily b
 ased on the Latin text: “Et in terra pax.” This year's Christmas conce
 rt will be an exciting experience for both performers and audience\, f
 eaturing organ\, brass\, and soloists.
X-ALT-DESC;FMTTYPE=text/html:<div class=page-restrict-output><p><stron
 g>Et in terra pax ... Let There Be Peace on Earth</strong><br>\n<a hre
 f=http://www.mastersingersinc.org/ target=_blank>Master Singers Choral
 e</a><br>\n<a href=http://www.mastersingersinc.org/singdirector.htm ta
 rget=_blank>J. D. Goddard</a>\, director</p>\n<p>The MSI Chorale will 
 present original compositions expressly written for this concert prima
 rily based on the Latin text: “Et in terra pax.” This year's Christmas
  concert will be an exciting experience for both performers and audien
 ce\, featuring organ\, brass\, and soloists.</p>\n</div>
URL:https://akronago.org/events/92/master-singers-chorale/?lang=en
ATTACH:https://akronago.org/events/92/master-singers-chorale/?lang=en
LOCATION:Fairlawn Lutheran\, 3415 W Market St\, Fairlawn\, OH
END:VEVENT
END:VCALENDAR
