BEGIN:VCALENDAR
VERSION:2.0
METHOD:PUBLISH
PRODID:-//hacksw/handcal//NONSGML v1.0//EN
BEGIN:VEVENT
DTSTAMP:20260423T111810Z
DTSTART:20111106T190000Z
DTEND:20111106T040000Z
UID:20111106T190000Z-20111106T040000Z-91@akronago.org
SUMMARY:Kent State Men's and Women's Choruses
DESCRIPTION:Singing for Joy\nKerry Glann\, director\n\nThe Kent State 
 choruses include students from across the campus who have a desire to 
 achieve excellence in choral performance. The choruses will perform to
 gether as well as individually. Both groups tour regularly and have ap
 peared at the OMEA Professional Conference.
X-ALT-DESC;FMTTYPE=text/html:<div class=page-restrict-output><p><stron
 g>Singing for Joy</strong><br>\nKerry Glann\, director</p>\n<p>The Ken
 t State choruses include students from across the campus who have a de
 sire to achieve excellence in choral performance. The choruses will pe
 rform together as well as individually. Both groups tour regularly and
  have appeared at the OMEA Professional Conference.</p>\n</div>
URL:https://akronago.org/events/91/kent-state-mens-and-womens-choruses
 /?lang=en
ATTACH:https://akronago.org/events/91/kent-state-mens-and-womens-choru
 ses/?lang=en
LOCATION:Fairlawn Lutheran\, 3415 W Market St\, Fairlawn\, OH
END:VEVENT
END:VCALENDAR
