BEGIN:VCALENDAR
VERSION:2.0
METHOD:PUBLISH
PRODID:-//hacksw/handcal//NONSGML v1.0//EN
BEGIN:VEVENT
DTSTAMP:20260423T111657Z
DTSTART:20111002T190000Z
DTEND:20111002T040000Z
UID:20111002T190000Z-20111002T040000Z-90@akronago.org
SUMMARY:Mary Ragna Yetter
DESCRIPTION:Piping Hot: A Panorama of Pastorales\, Pedals\, and Prelud
 es\nplayed by Mary Ragna Yetter (Organist at Kent United Methodist Chu
 rch)\n\nMary Ragna comes to our area from Peoria\, Illinois\, where sh
 e was both a harpsichordist and organ recitalist. She has two degrees 
 from Texas Christian and the University of Memphis\, and an advanced c
 ertificate from the Royal College of Music in London.
X-ALT-DESC;FMTTYPE=text/html:<div class=page-restrict-output><p><stron
 g>Piping Hot: A Panorama of Pastorales\, Pedals\, and Preludes</strong
 ><br>\nplayed by Mary Ragna Yetter (Organist at Kent United Methodist 
 Church)</p>\n<p>Mary Ragna comes to our area from Peoria\, Illinois\, 
 where she was both a harpsichordist and organ recitalist. She has two 
 degrees from Texas Christian and the University of Memphis\, and an ad
 vanced certificate from the Royal College of Music in London.</p>\n</d
 iv>
URL:https://akronago.org/events/90/mary-ragna-yetter/?lang=en
ATTACH:https://akronago.org/events/90/mary-ragna-yetter/?lang=en
LOCATION:Fairlawn Lutheran\, 3415 W Market St\, Fairlawn\, OH
END:VEVENT
END:VCALENDAR
