BEGIN:VCALENDAR
VERSION:2.0
METHOD:PUBLISH
PRODID:-//hacksw/handcal//NONSGML v1.0//EN
BEGIN:VEVENT
DTSTAMP:20260423T111728Z
DTSTART:20111119T140000Z
DTEND:20111119T160000Z
UID:20111119T140000Z-20111119T160000Z-89@akronago.org
SUMMARY:Choral Reading: Hit us with your best shot!
DESCRIPTION:Submit the title/composer/publisher info for one or two of
  your heaviest-hitting anthems and we’ll read through them\, followed 
 by lunch at the Main Street Grille. A joint event with the Canton chap
 ter. Details will be coming soon.
X-ALT-DESC;FMTTYPE=text/html:<div class=page-restrict-output><p>Submit
  the title/composer/publisher info for one or two of your heaviest-hit
 ting anthems and we’ll read through them\, followed by lunch at the Ma
 in Street Grille. A joint event with the Canton chapter. Details will 
 be coming soon.</p>\n</div>
URL:https://akronago.org/events/89/choral-reading-hit-us-with-your-bes
 t-shot/?lang=en
ATTACH:https://akronago.org/events/89/choral-reading-hit-us-with-your-
 best-shot/?lang=en
LOCATION:Community Christian Church (Canton)\, 210 North Main Street\,
  North Canton
END:VEVENT
END:VCALENDAR
