BEGIN:VCALENDAR
VERSION:2.0
METHOD:PUBLISH
PRODID:-//hacksw/handcal//NONSGML v1.0//EN
BEGIN:VEVENT
DTSTAMP:20260423T111727Z
DTSTART:20111028T230000Z
DTEND:20111028T040000Z
UID:20111028T230000Z-20111028T040000Z-88@akronago.org
SUMMARY:Annual Halloween Spooktacular Members' Recital
DESCRIPTION:All ye ghouls and goblins\, get out your most scary music 
 and costumes for this really entertaining recital and fundraiser for A
 kron Children’s Hospital.
X-ALT-DESC;FMTTYPE=text/html:<div class=page-restrict-output><p>All ye
  ghouls and goblins\, get out your most scary music and costumes for t
 his really entertaining recital and fundraiser for <a href=https://www
 .akronchildrens.org/cms/home/index.html target=_blank>Akron Children’s
  Hospital</a>.</p>\n</div>
URL:https://akronago.org/events/88/annual-halloween-spooktacular-membe
 rs-recital/?lang=en
ATTACH:https://akronago.org/events/88/annual-halloween-spooktacular-me
 mbers-recital/?lang=en
LOCATION:First Congregational (Akron)\, 292 E Market St\, Akron
END:VEVENT
END:VCALENDAR
