BEGIN:VCALENDAR
VERSION:2.0
METHOD:PUBLISH
PRODID:-//hacksw/handcal//NONSGML v1.0//EN
BEGIN:VEVENT
DTSTAMP:20260423T111654Z
DTSTART:20111001T170000Z
DTEND:20111001T040000Z
UID:20111001T170000Z-20111001T040000Z-87@akronago.org
SUMMARY:Alain Festival
DESCRIPTION:*REVISED*\n\n1:00–2:00 ~ Lecture by Dr. Aurélie Decourt: J
 ehan Alain: Musician and Poet\n \n2:00–3:00 ~ 2nd Lecture by Dr. Decou
 rt: Jehan Alain: His Musical and Creative Inspiration\n \nThe two lect
 ures will be given by Dr. Aurélie Decourt\, the niece of Jehan Alain a
 nd the daughter of Marie-Claire Alain. The lectures will take place in
  KING 106 (the building on the northwest corner of Professor and Colle
 ge Streets—across from the large arch in Tappan Square).\n \n4:00–5:30
  ~ Concert in Finney Chapel\n\nSponsored by the Cleveland chapter AGO
X-ALT-DESC;FMTTYPE=text/html:<div class=page-restrict-output><p><stron
 g>*REVISED*</strong></p>\n<p>1:00–2:00 ~ Lecture by Dr. Aurélie Decour
 t: Jehan Alain: Musician and Poet</p>\n<p>2:00–3:00 ~ 2nd Lecture by D
 r. Decourt: Jehan Alain: His Musical and Creative Inspiration</p>\n<p>
 The two lectures will be given by Dr. Aurélie Decourt\, the niece of J
 ehan Alain and the daughter of Marie-Claire Alain. The lectures will t
 ake place in KING 106 (the building on the northwest corner of Profess
 or and College Streets—across from the large arch in Tappan Square).</
 p>\n<p>4:00–5:30 ~ Concert in Finney Chapel</p>\n<p>Sponsored by the <
 a href=http://www.agocleveland.org/ target=_blank>Cleveland chapter AG
 O</a></p>\n</div>
URL:https://akronago.org/events/87/alain-festival/?lang=en
ATTACH:https://akronago.org/events/87/alain-festival/?lang=en
LOCATION:Oberlin Conservatory of Music\, 39 W College St\, Oberlin
END:VEVENT
END:VCALENDAR
