BEGIN:VCALENDAR
VERSION:2.0
METHOD:PUBLISH
PRODID:-//hacksw/handcal//NONSGML v1.0//EN
BEGIN:VEVENT
DTSTAMP:20260423T111657Z
DTSTART:20120513T210000Z
DTEND:20120513T040000Z
UID:20120513T210000Z-20120513T040000Z-86@akronago.org
SUMMARY:Mother's Day Opera/Broadway Gala
DESCRIPTION:Part of Westminster Presbyterian's Five @ Five series
X-ALT-DESC;FMTTYPE=text/html:<div class=page-restrict-output><p>Part o
 f Westminster Presbyterian's <a href=http://www.westminsterakron.com/#
 /five-five target=_blank>Five @ Five</a> series</p>\n</div>
URL:https://akronago.org/events/86/mothers-day-operabroadway-gala/?lan
 g=en
ATTACH:https://akronago.org/events/86/mothers-day-operabroadway-gala/?
 lang=en
LOCATION:Westminster Presbyterian (Akron)\, 1250 W Exchange St\, Akron
END:VEVENT
END:VCALENDAR
