BEGIN:VCALENDAR
VERSION:2.0
METHOD:PUBLISH
PRODID:-//hacksw/handcal//NONSGML v1.0//EN
BEGIN:VEVENT
DTSTAMP:20260423T111613Z
DTSTART:20120415T210000Z
DTEND:20120415T040000Z
UID:20120415T210000Z-20120415T040000Z-85@akronago.org
SUMMARY:OSU Men's Glee Club
DESCRIPTION:Ohio State University Men's Glee Club\n\nPart of Westminst
 er Presbyterian's Five @ Five series
X-ALT-DESC;FMTTYPE=text/html:<div class=page-restrict-output><p><a hre
 f=http://mgc.osu.edu/ target=_blank>Ohio State University Men's Glee C
 lub</a></p>\n<p>Part of Westminster Presbyterian's <a href=http://www.
 westminsterakron.com/#/five-five target=_blank>Five @ Five</a> series<
 /p>\n</div>
URL:https://akronago.org/events/85/osu-mens-glee-club/?lang=en
ATTACH:https://akronago.org/events/85/osu-mens-glee-club/?lang=en
LOCATION:Westminster Presbyterian (Akron)\, 1250 W Exchange St\, Akron
END:VEVENT
END:VCALENDAR
