BEGIN:VCALENDAR
VERSION:2.0
METHOD:PUBLISH
PRODID:-//hacksw/handcal//NONSGML v1.0//EN
BEGIN:VEVENT
DTSTAMP:20260423T111638Z
DTSTART:20120115T210000Z
DTEND:20120115T040000Z
UID:20120115T210000Z-20120115T040000Z-84@akronago.org
SUMMARY:Akron Baroque Orchestra
DESCRIPTION:Akron Baroque Orchestra\n\nPart of Westminster Presbyteria
 n’s Five @ Five series
X-ALT-DESC;FMTTYPE=text/html:<div class=page-restrict-output><p><a hre
 f=http://www.akronbaroque.org/ target=_blank>Akron Baroque Orchestra</
 a></p>\n<p>Part of Westminster Presbyterian’s <a href=http://www.westm
 insterakron.com/#/five-five target=_blank>Five @ Five</a> series</p>\n
 </div>
URL:https://akronago.org/events/84/akron-baroque-orchestra/?lang=en
ATTACH:https://akronago.org/events/84/akron-baroque-orchestra/?lang=en
LOCATION:Westminster Presbyterian (Akron)\, 1250 W Exchange St\, Akron
END:VEVENT
END:VCALENDAR
