BEGIN:VCALENDAR
VERSION:2.0
METHOD:PUBLISH
PRODID:-//hacksw/handcal//NONSGML v1.0//EN
BEGIN:VEVENT
DTSTAMP:20260423T111729Z
DTSTART:20111030T210000Z
DTEND:20111030T040000Z
UID:20111030T210000Z-20111030T040000Z-83@akronago.org
SUMMARY:Festival Choral Concert & Orchestra
DESCRIPTION:Featuring Haydn's Theresienmesse\n\nPart of Westminster Pr
 esbyterian's Five @ Five series
X-ALT-DESC;FMTTYPE=text/html:<div class=page-restrict-output><p>Featur
 ing Haydn's <em>Theresienmesse</em></p>\n<p>Part of Westminster Presby
 terian's <a href=http://www.westminsterakron.com/#/five-five target=_b
 lank>Five @ Five</a> series</p>\n</div>
URL:https://akronago.org/events/83/festival-choral-concert-orchestra/?
 lang=en
ATTACH:https://akronago.org/events/83/festival-choral-concert-orchestr
 a/?lang=en
LOCATION:Westminster Presbyterian (Akron)\, 1250 W Exchange St\, Akron
END:VEVENT
END:VCALENDAR
