BEGIN:VCALENDAR
VERSION:2.0
METHOD:PUBLISH
PRODID:-//hacksw/handcal//NONSGML v1.0//EN
BEGIN:VEVENT
DTSTAMP:20260423T111725Z
DTSTART:20111209T040000Z
DTEND:20111211T040000Z
UID:20111209T040000Z-20111211T040000Z-81@akronago.org
SUMMARY:Madrigal Dinners
DESCRIPTION:Madrigal Dinners at St. Paul's\nFriday & Saturday\, Decemb
 er 9-10\, 6:30-9:00 p.m.\nSunday\, December 11\, 4:30-7:00 p.m.\nTicke
 ts $40. More information at St. Paul's website.
X-ALT-DESC;FMTTYPE=text/html:<div class=page-restrict-output><p><stron
 g>Madrigal Dinners at St. Paul's</strong><br>\nFriday & Saturday\, Dec
 ember 9-10\, 6:30-9:00 p.m.<br>\nSunday\, December 11\, 4:30-7:00 p.m.
 <br>\nTickets $40. More information at <a href=http://stpaulsakron.org
 /madrigal-dinners.aspx target=_blank>St. Paul's website</a>.</p>\n</di
 v>
URL:https://akronago.org/events/81/madrigal-dinners/?lang=en
ATTACH:https://akronago.org/events/81/madrigal-dinners/?lang=en
LOCATION:St Paul's Episcopal (Akron)\, 1361 W Market St\, Akron
END:VEVENT
END:VCALENDAR
