BEGIN:VCALENDAR
VERSION:2.0
METHOD:PUBLISH
PRODID:-//hacksw/handcal//NONSGML v1.0//EN
BEGIN:VEVENT
DTSTAMP:20260423T111638Z
DTSTART:20111127T200000Z
DTEND:20111127T040000Z
UID:20111127T200000Z-20111127T040000Z-80@akronago.org
SUMMARY:Lessons & Carols on Advent Sunday
DESCRIPTION:The Choir of Men & Boys\, and the St. Cecilia Choir of Gir
 ls
X-ALT-DESC;FMTTYPE=text/html:<div class=page-restrict-output><p>The Ch
 oir of Men & Boys\, and the St. Cecilia Choir of Girls</p>\n</div>
URL:https://akronago.org/events/80/lessons-carols-on-advent-sunday/?la
 ng=en
ATTACH:https://akronago.org/events/80/lessons-carols-on-advent-sunday/
 ?lang=en
LOCATION:St Paul's Episcopal (Akron)\, 1361 W Market St\, Akron
END:VEVENT
END:VCALENDAR
