BEGIN:VCALENDAR
VERSION:2.0
METHOD:PUBLISH
PRODID:-//hacksw/handcal//NONSGML v1.0//EN
BEGIN:VEVENT
DTSTAMP:20260423T111636Z
DTSTART:20111113T200000Z
DTEND:20111113T040000Z
UID:20111113T200000Z-20111113T040000Z-79@akronago.org
SUMMARY:Evensong
DESCRIPTION:The St. Catherine's Choir of Women
X-ALT-DESC;FMTTYPE=text/html:<div class=page-restrict-output><p>The St
 . Catherine's Choir of Women</p>\n</div>
URL:https://akronago.org/events/79/evensong/?lang=en
ATTACH:https://akronago.org/events/79/evensong/?lang=en
LOCATION:St Paul's Episcopal (Akron)\, 1361 W Market St\, Akron
END:VEVENT
END:VCALENDAR
