BEGIN:VCALENDAR
VERSION:2.0
METHOD:PUBLISH
PRODID:-//hacksw/handcal//NONSGML v1.0//EN
BEGIN:VEVENT
DTSTAMP:20260423T111726Z
DTSTART:20111016T200000Z
DTEND:20111016T040000Z
UID:20111016T200000Z-20111016T040000Z-78@akronago.org
SUMMARY:Evensong
DESCRIPTION:The Choir of Men & Boys\, and the St. Cecilia Choir of Gir
 ls\n\nMichael Rickelton Preces & Responses\nHarold Friedell Service in
  F\nC. Hubert H. Parry My soul\, there is a country
X-ALT-DESC;FMTTYPE=text/html:<div class=page-restrict-output><p>The Ch
 oir of Men & Boys\, and the St. Cecilia Choir of Girls</p>\n<p><em>Mic
 hael Rickelton</em> Preces & Responses<br>\n<em>Harold Friedell</em> S
 ervice in F<br>\n<em>C. Hubert H. Parry</em> My soul\, there is a coun
 try</p>\n</div>
URL:https://akronago.org/events/78/evensong/?lang=en
ATTACH:https://akronago.org/events/78/evensong/?lang=en
LOCATION:St Paul's Episcopal (Akron)\, 1361 W Market St\, Akron
END:VEVENT
END:VCALENDAR
