BEGIN:VCALENDAR
VERSION:2.0
METHOD:PUBLISH
PRODID:-//hacksw/handcal//NONSGML v1.0//EN
BEGIN:VEVENT
DTSTAMP:20260423T111637Z
DTSTART:20120107T000000Z
DTEND:20120106T040000Z
UID:20120107T000000Z-20120106T040000Z-75@akronago.org
SUMMARY:Cornell Glee Club
DESCRIPTION:The Cornell Glee Club in concert\nDr. Scott Tucker\, direc
 tor
X-ALT-DESC;FMTTYPE=text/html:<div class=page-restrict-output><p><a hre
 f=http://www.gleeclub.com/ target=_blank>The Cornell Glee Club</a> in 
 concert<br>\nDr. Scott Tucker\, director</p>\n</div>
URL:https://akronago.org/events/75/cornell-glee-club/?lang=en
ATTACH:https://akronago.org/events/75/cornell-glee-club/?lang=en
LOCATION:Holy Trinity Lutheran (Akron)\, 50 North Prospect St\, Akron
END:VEVENT
END:VCALENDAR
