BEGIN:VCALENDAR
VERSION:2.0
METHOD:PUBLISH
PRODID:-//hacksw/handcal//NONSGML v1.0//EN
BEGIN:VEVENT
DTSTAMP:20260423T111654Z
DTSTART:20111203T000000Z
DTEND:20111202T040000Z
UID:20111203T000000Z-20111202T040000Z-74@akronago.org
SUMMARY:Advent Procession of Lessons & Carols
DESCRIPTION:The Trinity Choir\, Trinity Brass\, and Trinity Bell choir
X-ALT-DESC;FMTTYPE=text/html:<div class=page-restrict-output><p>The Tr
 inity Choir\, Trinity Brass\, and Trinity Bell choir</p>\n</div>
URL:https://akronago.org/events/74/advent-procession-of-lessons-carols
 /?lang=en
ATTACH:https://akronago.org/events/74/advent-procession-of-lessons-car
 ols/?lang=en
LOCATION:Holy Trinity Lutheran (Akron)\, 50 North Prospect St\, Akron
END:VEVENT
END:VCALENDAR
