BEGIN:VCALENDAR
VERSION:2.0
METHOD:PUBLISH
PRODID:-//hacksw/handcal//NONSGML v1.0//EN
BEGIN:VEVENT
DTSTAMP:20260423T111638Z
DTSTART:20111119T000000Z
DTEND:20111118T040000Z
UID:20111119T000000Z-20111118T040000Z-73@akronago.org
SUMMARY:Brass Band of the Western Reserve
DESCRIPTION:Music for Brass and Organ \nDr. Keith Wilkinson\, director
 \nJeannie Kienzle\, organist
X-ALT-DESC;FMTTYPE=text/html:<div class=page-restrict-output><p><stron
 g>Music for Brass and Organ </strong><br>\nDr. Keith Wilkinson\, direc
 tor<br>\nJeannie Kienzle\, organist</p>\n</div>
URL:https://akronago.org/events/73/brass-band-of-the-western-reserve/?
 lang=en
ATTACH:https://akronago.org/events/73/brass-band-of-the-western-reserv
 e/?lang=en
LOCATION:Holy Trinity Lutheran (Akron)\, 50 North Prospect St\, Akron
END:VEVENT
END:VCALENDAR
