BEGIN:VCALENDAR
VERSION:2.0
METHOD:PUBLISH
PRODID:-//hacksw/handcal//NONSGML v1.0//EN
BEGIN:VEVENT
DTSTAMP:20260423T111728Z
DTSTART:20120719T210000Z
DTEND:20120720T020000Z
UID:20120719T210000Z-20120720T020000Z-72@akronago.org
SUMMARY:Brickstreet Jazz Fest
DESCRIPTION:Concert on the church lawn (large tent) featuring larger j
 azz band and a small group area featuring a jazz trio. Beer\, food wil
 l be available.
X-ALT-DESC;FMTTYPE=text/html:<div class=page-restrict-output><p>Concer
 t on the church lawn (large tent) featuring larger jazz band and a sma
 ll group area featuring a jazz trio. Beer\, food will be available.</p
 >\n</div>
URL:https://akronago.org/events/72/brickstreet-jazz-fest/?lang=en
ATTACH:https://akronago.org/events/72/brickstreet-jazz-fest/?lang=en
LOCATION:St Sebastian RC (Akron)\, 476 Mull Ave\, Akron
END:VEVENT
END:VCALENDAR
