BEGIN:VCALENDAR
VERSION:2.0
METHOD:PUBLISH
PRODID:-//hacksw/handcal//NONSGML v1.0//EN
BEGIN:VEVENT
DTSTAMP:20260423T111635Z
DTSTART:20120422T193000Z
DTEND:20120422T040000Z
UID:20120422T193000Z-20120422T040000Z-71@akronago.org
SUMMARY:Akron Symphony Chorus Spring Concert
DESCRIPTION:Maria Sensi Sellner\, conductor\nRutter: Gloria\; Finzi: M
 agnificat for Choir and Organ/Orchestra\, Op. 36\; Bernstein: Chichest
 er Psalms\n\nContact Akron Symphony office for tickets (330-535-8131).
X-ALT-DESC;FMTTYPE=text/html:<div class=page-restrict-output><p>Maria 
 Sensi Sellner\, conductor<br>\nRutter: Gloria\; Finzi: Magnificat for 
 Choir and Organ/Orchestra\, Op. 36\; Bernstein: Chichester Psalms</p>\
 n<p>Contact <a href=http://www.akronsymphony.org/chorus2012/ target=_b
 lank>Akron Symphony office</a> for tickets (330-535-8131). </p>\n</div
 >
URL:https://akronago.org/events/71/akron-symphony-chorus-spring-concer
 t/?lang=en
ATTACH:https://akronago.org/events/71/akron-symphony-chorus-spring-con
 cert/?lang=en
LOCATION:St Sebastian RC (Akron)\, 476 Mull Ave\, Akron
END:VEVENT
END:VCALENDAR
