BEGIN:VCALENDAR
VERSION:2.0
METHOD:PUBLISH
PRODID:-//hacksw/handcal//NONSGML v1.0//EN
BEGIN:VEVENT
DTSTAMP:20260423T111726Z
DTSTART:20120325T230000Z
DTEND:20120325T040000Z
UID:20120325T230000Z-20120325T040000Z-70@akronago.org
SUMMARY:Requiem by Gabriel Fauré
DESCRIPTION:Featuring Fauré's Requiem with the Parish Choir of St. Seb
 astian and the Akron Regional Chamber Orchestra. Other works by Palest
 rina\, Mozart\, and Haan will also be included in the program.
X-ALT-DESC;FMTTYPE=text/html:<div class=page-restrict-output><p>Featur
 ing Fauré's Requiem with the Parish Choir of St. Sebastian and the <a 
 href=http://arco.acorchestra.com/ target=_blank>Akron Regional Chamber
  Orchestra</a>. Other works by Palestrina\, Mozart\, and Haan will als
 o be included in the program.</p>\n</div>
URL:https://akronago.org/events/70/requiem-by-gabriel-faure/?lang=en
ATTACH:https://akronago.org/events/70/requiem-by-gabriel-faure/?lang=e
 n
LOCATION:St Sebastian RC (Akron)\, 476 Mull Ave\, Akron
END:VEVENT
END:VCALENDAR
