BEGIN:VCALENDAR
VERSION:2.0
METHOD:PUBLISH
PRODID:-//hacksw/handcal//NONSGML v1.0//EN
BEGIN:VEVENT
DTSTAMP:20260423T111615Z
DTSTART:20101017T200000Z
DTEND:20101017T040000Z
UID:20101017T200000Z-20101017T040000Z-7@akronago.org
SUMMARY:St. Paul's Evensong
DESCRIPTION:The Choir of Men & Boys\, with the St. Cecilia Choir of Gi
 rls\nRichard Shephard — Preces & Responses\nT. Tertius Noble — Magnifi
 cat & Nunc dimittis in A minor\nC. V. Stanford — Beati quorum via
X-ALT-DESC;FMTTYPE=text/html:<div class=page-restrict-output><p>The Ch
 oir of Men &amp\; Boys\, with the St. Cecilia Choir of Girls</p>\n<p><
 em>Richard Shephard</em> — Preces &amp\; Responses<br>\n<em>T. Tertius
  Noble</em> — Magnificat &amp\; Nunc dimittis in A minor<br>\n<em>C. V
 . Stanford</em> — Beati quorum via</p>\n</div>
URL:https://akronago.org/events/7/st-pauls-evensong/?lang=en
ATTACH:https://akronago.org/events/7/st-pauls-evensong/?lang=en
LOCATION:St Paul's Episcopal (Akron)\, 1361 W Market St\, Akron
END:VEVENT
END:VCALENDAR
