BEGIN:VCALENDAR
VERSION:2.0
METHOD:PUBLISH
PRODID:-//hacksw/handcal//NONSGML v1.0//EN
BEGIN:VEVENT
DTSTAMP:20260423T112008Z
DTSTART:20120311T200000Z
DTEND:20120311T040000Z
UID:20120311T200000Z-20120311T040000Z-69@akronago.org
SUMMARY:Java and Jazz Concert
DESCRIPTION:Coffee House concert featuring jazz trio Kevin DeSimone (k
 eyboards)\, Peggy Coyle (vocals)\, and Neal Frey (bass). Coffee and de
 sserts will be provided in an informal coffee house setting at Zwisler
  Hall of St. Sebastian Church.
X-ALT-DESC;FMTTYPE=text/html:<div class=page-restrict-output><p>Coffee
  House concert featuring jazz trio Kevin DeSimone (keyboards)\, Peggy 
 Coyle (vocals)\, and Neal Frey (bass). Coffee and desserts will be pro
 vided in an informal coffee house setting at Zwisler Hall of St. Sebas
 tian Church.</p>\n</div>
URL:https://akronago.org/events/69/java-and-jazz-concert/?lang=en
ATTACH:https://akronago.org/events/69/java-and-jazz-concert/?lang=en
LOCATION:St Sebastian RC (Akron)\, 476 Mull Ave\, Akron
END:VEVENT
END:VCALENDAR
