BEGIN:VCALENDAR
VERSION:2.0
METHOD:PUBLISH
PRODID:-//hacksw/handcal//NONSGML v1.0//EN
BEGIN:VEVENT
DTSTAMP:20260423T111638Z
DTSTART:20120212T200000Z
DTEND:20120212T040000Z
UID:20120212T200000Z-20120212T040000Z-68@akronago.org
SUMMARY:Cleveland Chamber Singers
DESCRIPTION:Directed by David Jaranowski
X-ALT-DESC;FMTTYPE=text/html:<div class=page-restrict-output><p>Direct
 ed by David Jaranowski</p>\n</div>
URL:https://akronago.org/events/68/cleveland-chamber-singers/?lang=en
ATTACH:https://akronago.org/events/68/cleveland-chamber-singers/?lang=
 en
LOCATION:St Sebastian RC (Akron)\, 476 Mull Ave\, Akron
END:VEVENT
END:VCALENDAR
