BEGIN:VCALENDAR
VERSION:2.0
METHOD:PUBLISH
PRODID:-//hacksw/handcal//NONSGML v1.0//EN
BEGIN:VEVENT
DTSTAMP:20260423T111655Z
DTSTART:20111211T193000Z
DTEND:20111211T040000Z
UID:20111211T193000Z-20111211T040000Z-67@akronago.org
SUMMARY:Lessons and Carols
DESCRIPTION:Ceremony of Lessons and Carols featuring music of Rachmani
 noff\, Willcocks\, and others
X-ALT-DESC;FMTTYPE=text/html:<div class=page-restrict-output><p>Ceremo
 ny of Lessons and Carols featuring music of Rachmaninoff\, Willcocks\,
  and others</p>\n</div>
URL:https://akronago.org/events/67/lessons-and-carols/?lang=en
ATTACH:https://akronago.org/events/67/lessons-and-carols/?lang=en
LOCATION:St Sebastian RC (Akron)\, 476 Mull Ave\, Akron
END:VEVENT
END:VCALENDAR
