BEGIN:VCALENDAR
VERSION:2.0
METHOD:PUBLISH
PRODID:-//hacksw/handcal//NONSGML v1.0//EN
BEGIN:VEVENT
DTSTAMP:20260423T111739Z
DTSTART:20111206T000000Z
DTEND:20111205T040000Z
UID:20111206T000000Z-20111205T040000Z-66@akronago.org
SUMMARY:VOCI Holiday Concert
DESCRIPTION:Voices of Canton\, Inc. will present a holiday concert.
X-ALT-DESC;FMTTYPE=text/html:<div class=page-restrict-output><p><a hre
 f=http://www.voicesofcanton.org/ target=_blank>Voices of Canton\, Inc.
 </a> will present a holiday concert.</p>\n</div>
URL:https://akronago.org/events/66/voci-holiday-concert/?lang=en
ATTACH:https://akronago.org/events/66/voci-holiday-concert/?lang=en
LOCATION:St Sebastian RC (Akron)\, 476 Mull Ave\, Akron
END:VEVENT
END:VCALENDAR
