BEGIN:VCALENDAR
VERSION:2.0
METHOD:PUBLISH
PRODID:-//hacksw/handcal//NONSGML v1.0//EN
BEGIN:VEVENT
DTSTAMP:20260423T111727Z
DTSTART:20110730T140000Z
DTEND:20110730T190000Z
UID:20110730T140000Z-20110730T190000Z-63@akronago.org
SUMMARY:Kegg Shop Open  House
DESCRIPTION:Kegg Pipe Organ Builders invites you to attend an Open Hou
 se at our workshop in Hartville\, Ohio on Saturday\, July 30th from 10
 :00 a.m. to 3:00 p.m. The new organ for St. Stephen Martyr Lutheran Ch
 urch in Canton will be set up and playable in the shop. There will be 
 opportunities for shop tours\, voicing demonstrations\, open console t
 ime\, Q & A\, and light refreshments. \n\nMore information is availabl
 e at www.keggorgan.com or by phone at 330-877-8800.
X-ALT-DESC;FMTTYPE=text/html:<div class=page-restrict-output><p><stron
 g>Kegg Pipe Organ Builders</strong> invites you to attend an Open Hous
 e at our workshop in Hartville\, Ohio on Saturday\, July 30th from 10:
 00 a.m. to 3:00 p.m. The new organ for St. Stephen Martyr Lutheran Chu
 rch in Canton will be set up and playable in the shop. There will be o
 pportunities for shop tours\, voicing demonstrations\, open console ti
 me\, Q & A\, and light refreshments. </p>\n<p>More information is avai
 lable at <a href=http://www.keggorgan.com>www.keggorgan.com</a> or by 
 phone at 330-877-8800.</p>\n</div>
URL:https://akronago.org/events/63/kegg-shop-open-house/?lang=en
ATTACH:https://akronago.org/events/63/kegg-shop-open-house/?lang=en
LOCATION:Kegg Pipe Organ Builders (Hartville)\, 1184 Woodland St SW\, 
 Hartville
END:VEVENT
END:VCALENDAR
