BEGIN:VCALENDAR
VERSION:2.0
METHOD:PUBLISH
PRODID:-//hacksw/handcal//NONSGML v1.0//EN
BEGIN:VEVENT
DTSTAMP:20260423T111826Z
DTSTART:20110626T200000Z
DTEND:20110627T040000Z
UID:20110626T200000Z-20110627T040000Z-62@akronago.org
SUMMARY:Ciao Roma
DESCRIPTION:Selections by Franck\, Handel\, Saint-Saëns\, Victoria\, P
 alestrina\, Praetorius\, Hayes\, and others\n\nThis program is in prep
 aration for the Parish Choir Italy Pilgrimage on July 4-11\, 2011.
X-ALT-DESC;FMTTYPE=text/html:<div class=page-restrict-output><p>Select
 ions by Franck\, Handel\, Saint-Saëns\, Victoria\, Palestrina\, Praeto
 rius\, Hayes\, and others</p>\n<p>This program is in preparation for t
 he Parish Choir Italy Pilgrimage on July 4-11\, 2011.</p>\n</div>
URL:https://akronago.org/events/62/ciao-roma/?lang=en
ATTACH:https://akronago.org/events/62/ciao-roma/?lang=en
LOCATION:St Sebastian RC (Akron)\, 476 Mull Ave\, Akron
END:VEVENT
END:VCALENDAR
