BEGIN:VCALENDAR
VERSION:2.0
METHOD:PUBLISH
PRODID:-//hacksw/handcal//NONSGML v1.0//EN
BEGIN:VEVENT
DTSTAMP:20260423T111636Z
DTSTART:20110522T200000Z
DTEND:20110523T040000Z
UID:20110522T200000Z-20110523T040000Z-61@akronago.org
SUMMARY:Choir Benefit Concert
DESCRIPTION:Choir Benefit Concert\nThe Choir of Men and Boys\nThe St. 
 Cecilia Choir of Girls\nDaniel Fortune\, conductor\nJustin David Mille
 r\, guest organist\nFeaturing Bring us\, O Lord God by William Harris\
 , and Hear my words by Hubert Parry\nFree admission\, but donations gr
 atefully accepted to benefit the Choir Travel Fund of St. Paul's
X-ALT-DESC;FMTTYPE=text/html:<div class=page-restrict-output><h3>Choir
  Benefit Concert</h3>\n<p>The Choir of Men and Boys<br>\nThe St. Cecil
 ia Choir of Girls<br>\nDaniel Fortune\, conductor<br>\nJustin David Mi
 ller\, guest organist<br>\n<em>Featuring Bring us\, O Lord God by Will
 iam Harris\, and Hear my words by Hubert Parry</em><br>\nFree admissio
 n\, but donations gratefully accepted to benefit the Choir Travel Fund
  of St. Paul's</p>\n</div>
URL:https://akronago.org/events/61/choir-benefit-concert/?lang=en
ATTACH:https://akronago.org/events/61/choir-benefit-concert/?lang=en
LOCATION:St Paul's Episcopal (Akron)\, 1361 W Market St\, Akron
END:VEVENT
END:VCALENDAR
