BEGIN:VCALENDAR
VERSION:2.0
METHOD:PUBLISH
PRODID:-//hacksw/handcal//NONSGML v1.0//EN
BEGIN:VEVENT
DTSTAMP:20260423T111725Z
DTSTART:20110515T200000Z
DTEND:20110515T040000Z
UID:20110515T200000Z-20110515T040000Z-54@akronago.org
SUMMARY:Miller South Steel Drum Concert
DESCRIPTION:Miller South Steel Drum Band will present a concert in Zwi
 sler Hall at St. Sebastian Church.
X-ALT-DESC;FMTTYPE=text/html:<div class=page-restrict-output><p>Miller
  South Steel Drum Band will present a concert in Zwisler Hall at St. S
 ebastian Church.</p>\n</div>
URL:https://akronago.org/events/54/miller-south-steel-drum-concert/?la
 ng=en
ATTACH:https://akronago.org/events/54/miller-south-steel-drum-concert/
 ?lang=en
LOCATION:St Sebastian RC (Akron)\, 476 Mull Ave\, Akron
END:VEVENT
END:VCALENDAR
