BEGIN:VCALENDAR
VERSION:2.0
METHOD:PUBLISH
PRODID:-//hacksw/handcal//NONSGML v1.0//EN
BEGIN:VEVENT
DTSTAMP:20260423T111726Z
DTSTART:20110320T200000Z
DTEND:20110320T040000Z
UID:20110320T200000Z-20110320T040000Z-53@akronago.org
SUMMARY:Coffee House Concert with Irish Tenor\, Pat Flynn
DESCRIPTION:Coffee house concerts at St. Sebastian offer an intimate s
 etting for listening to great music while enjoying a cup of coffee and
  cookies/cakes. Come\, relax and enjoy!
X-ALT-DESC;FMTTYPE=text/html:<div class=page-restrict-output><p>Coffee
  house concerts at St. Sebastian offer an intimate setting for listeni
 ng to great music while enjoying a cup of coffee and cookies/cakes. Co
 me\, relax and enjoy!</p>\n</div>
URL:https://akronago.org/events/53/coffee-house-concert-with-irish-ten
 or-pat-flynn/?lang=en
ATTACH:https://akronago.org/events/53/coffee-house-concert-with-irish-
 tenor-pat-flynn/?lang=en
LOCATION:St Sebastian RC (Akron)\, 476 Mull Ave\, Akron
END:VEVENT
END:VCALENDAR
