BEGIN:VCALENDAR
VERSION:2.0
METHOD:PUBLISH
PRODID:-//hacksw/handcal//NONSGML v1.0//EN
BEGIN:VEVENT
DTSTAMP:20260423T111657Z
DTSTART:20110130T190000Z
DTEND:20110130T040000Z
UID:20110130T190000Z-20110130T040000Z-52@akronago.org
SUMMARY:A Concert of Favorites
DESCRIPTION:Canton Chapter AGO\, with Musicians of Zion\nFeaturing org
 anists David Carnell\, Joyce Corbett\, and Ralph Morrison\nwith the Zi
 on Chancel Choir and Bells of Zion\n\nMusic by Bach\, Cook\, Courtney\
 , Elvey\, Haron\, Demarest\, Held\, Hopson\, Manz\, McDonald\, Nagy\, 
 Shaw\, Swann\, and Weaver
X-ALT-DESC;FMTTYPE=text/html:<div class=page-restrict-output><p><stron
 g>Canton Chapter AGO\, with Musicians of Zion</strong><br>\nFeaturing 
 organists David Carnell\, Joyce Corbett\, and Ralph Morrison<br>\nwith
  the Zion Chancel Choir and Bells of Zion</p>\n<p>Music by Bach\, Cook
 \, Courtney\, Elvey\, Haron\, Demarest\, Held\, Hopson\, Manz\, McDona
 ld\, Nagy\, Shaw\, Swann\, and Weaver</p>\n</div>
URL:https://akronago.org/events/52/a-concert-of-favorites/?lang=en
ATTACH:https://akronago.org/events/52/a-concert-of-favorites/?lang=en
LOCATION:Zion UCC (N Canton)\, 415 South Main St\, North Canton
END:VEVENT
END:VCALENDAR
