BEGIN:VCALENDAR
VERSION:2.0
METHOD:PUBLISH
PRODID:-//hacksw/handcal//NONSGML v1.0//EN
BEGIN:VEVENT
DTSTAMP:20260423T111614Z
DTSTART:20101029T230000Z
DTEND:20101029T040000Z
UID:20101029T230000Z-20101029T040000Z-5@akronago.org
SUMMARY:Halloween Spooktacula
DESCRIPTION:Akron AGO Members' Recital (Benefit)\nFreewill offering be
 nefitting Akron Children's Hospital Chaplaincy program
X-ALT-DESC;FMTTYPE=text/html:<div class=page-restrict-output><p><b>Akr
 on AGO Members' Recital (Benefit)</b><br>\n<em>Freewill offering benef
 itting Akron Children's Hospital Chaplaincy program</em></p>\n</div>
URL:https://akronago.org/events/5/halloween-spooktacula/?lang=en
ATTACH:https://akronago.org/events/5/halloween-spooktacula/?lang=en
LOCATION:First Congregational (Akron)\, 292 E Market St\, Akron
END:VEVENT
END:VCALENDAR
