BEGIN:VCALENDAR
VERSION:2.0
METHOD:PUBLISH
PRODID:-//hacksw/handcal//NONSGML v1.0//EN
BEGIN:VEVENT
DTSTAMP:20260423T111653Z
DTSTART:20110327T230000Z
DTEND:20110327T040000Z
UID:20110327T230000Z-20110327T040000Z-49@akronago.org
SUMMARY:Clark Wilson: Ben Hur
DESCRIPTION:Clark Wilson will accompany the 1925 epic silent film\, Be
 n Hur\, on the four-manual\, 53-rank organ of St. John's.\n\nFree admi
 ssion
X-ALT-DESC;FMTTYPE=text/html:<div class=page-restrict-output><p><a hre
 f=http://www.clarkwilson.net>Clark Wilson</a> will accompany the 1925 
 epic silent film\, Ben Hur\, on the four-manual\, 53-rank organ of St.
  John's.</p>\n<p>Free admission</p>\n</div>
URL:https://akronago.org/events/49/clark-wilson-ben-hur/?lang=en
ATTACH:https://akronago.org/events/49/clark-wilson-ben-hur/?lang=en
LOCATION:St John's Lutheran (Bellevue)\, 209 Southwest St\, Bellevue
END:VEVENT
END:VCALENDAR
