BEGIN:VCALENDAR
VERSION:2.0
METHOD:PUBLISH
PRODID:-//hacksw/handcal//NONSGML v1.0//EN
BEGIN:VEVENT
DTSTAMP:20260423T111638Z
DTSTART:20110227T200000Z
DTEND:20110227T040000Z
UID:20110227T200000Z-20110227T040000Z-48@akronago.org
SUMMARY:Evensong
DESCRIPTION:sung by the St. Catherine's Choir of Women
X-ALT-DESC;FMTTYPE=text/html:<div class=page-restrict-output><p>sung b
 y the St. Catherine's Choir of Women</p>\n</div>
URL:https://akronago.org/events/48/evensong/?lang=en
ATTACH:https://akronago.org/events/48/evensong/?lang=en
LOCATION:St Paul's Episcopal (Akron)\, 1361 W Market St\, Akron
END:VEVENT
END:VCALENDAR
