BEGIN:VCALENDAR
VERSION:2.0
METHOD:PUBLISH
PRODID:-//hacksw/handcal//NONSGML v1.0//EN
BEGIN:VEVENT
DTSTAMP:20260423T111810Z
DTSTART:20110130T200000Z
DTEND:20110130T040000Z
UID:20110130T200000Z-20110130T040000Z-47@akronago.org
SUMMARY:Evensong
DESCRIPTION:sung by The Choir of Men & Boys\, and the St. Cecilia Choi
 r of Girls
X-ALT-DESC;FMTTYPE=text/html:<div class=page-restrict-output><p>sung b
 y The Choir of Men & Boys\, and the St. Cecilia Choir of Girls</p>\n</
 div>
URL:https://akronago.org/events/47/evensong/?lang=en
ATTACH:https://akronago.org/events/47/evensong/?lang=en
LOCATION:St Paul's Episcopal (Akron)\, 1361 W Market St\, Akron
END:VEVENT
END:VCALENDAR
