BEGIN:VCALENDAR
VERSION:2.0
METHOD:PUBLISH
PRODID:-//hacksw/handcal//NONSGML v1.0//EN
BEGIN:VEVENT
DTSTAMP:20260423T111806Z
DTSTART:20230521T200000Z
DTEND:20230522T035959Z
UID:20230521T200000Z-20230522T035959Z-466@akronago.org
SUMMARY:Hymn Festival led by Bruce Neswick
DESCRIPTION:Bruce Neswick will lead a hymn festival at Holy Trinity Lu
 theran Church on Sunday\, May 21 at 4:00 p.m.\, following a lessons & 
 carols format. The theme For the Fruit of All Creation: A Hymn Festiva
 l for Planet Earth will be divided into three portions: Creation\, lam
 ent and renewal. Readers\, instrumentalists\, and singers will join wi
 th the assembly to present a variety of voices regarding the care of c
 reation.
X-ALT-DESC;FMTTYPE=text/html:<div class=page-restrict-output><p>Bruce 
 Neswick will lead a hymn festival at Holy Trinity Lutheran Church on <
 strong>Sunday\, May 21</strong><strong> at 4:00 p.m.\,</strong> follow
 ing a lessons &amp\; carols format. The theme <strong><em>For the Frui
 t of All Creation: A Hymn Festival for Planet Earth</em> </strong>will
  be divided into three portions: Creation\, lament and renewal. Reader
 s\, instrumentalists\, and singers will join with the assembly to pres
 ent a variety of voices regarding the care of creation.</p>\n</div>
URL:https://akronago.org/events/hymn-festival-led-by-bruce-neswick/?la
 ng=en
ATTACH:https://akronago.org/events/hymn-festival-led-by-bruce-neswick/
 ?lang=en
ATTACH:https://akronago.org/wp-content/uploads/neswick-150x150.jpeg
LOCATION:Holy Trinity Lutheran (Akron)\, 50 North Prospect St\, Akron
END:VEVENT
END:VCALENDAR
