BEGIN:VCALENDAR
VERSION:2.0
METHOD:PUBLISH
PRODID:-//hacksw/handcal//NONSGML v1.0//EN
BEGIN:VEVENT
DTSTAMP:20260423T111905Z
DTSTART:20230520T163000Z
DTEND:20230520T180000Z
UID:20230520T163000Z-20230520T180000Z-465@akronago.org
SUMMARY:AGO Workshop led by Bruce Neswick
DESCRIPTION:Award-winning organist and composer BRUCE NESWICK will off
 er a workshop for AGO members from 12:30–2:00\, with an emphasis on ch
 oral music and the organ (i.e. adapting choral accompaniments to vario
 us instrument types\, how to register for a choir\, directing from the
  console\, etc.).
X-ALT-DESC;FMTTYPE=text/html:<div class=page-restrict-output><p>Award-
 winning organist and composer <strong>BRUCE NESWICK</strong> will offe
 r a workshop for AGO members from 12:30–2:00\, with an emphasis on cho
 ral music and the organ (i.e. adapting choral accompaniments to variou
 s instrument types\, how to register for a choir\, directing from the 
 console\, etc.).</p>\n</div>
URL:https://akronago.org/events/ago-workshop-led-by-bruce-neswick/?lan
 g=en
ATTACH:https://akronago.org/events/ago-workshop-led-by-bruce-neswick/?
 lang=en
ATTACH:https://akronago.org/wp-content/uploads/neswick-150x150.jpeg
LOCATION:Holy Trinity Lutheran (Akron)\, 50 North Prospect St\, Akron
END:VEVENT
END:VCALENDAR
