BEGIN:VCALENDAR
VERSION:2.0
METHOD:PUBLISH
PRODID:-//hacksw/handcal//NONSGML v1.0//EN
BEGIN:VEVENT
DTSTAMP:20260423T111828Z
DTSTART:20230520T153000Z
DTEND:20230520T163000Z
UID:20230520T153000Z-20230520T163000Z-464@akronago.org
SUMMARY:AGO Luncheon
DESCRIPTION:An AGO Luncheon will precede a Workshop given by Bruce Nes
 wick. Luncheon RSVPs are requested by Monday\, May 15 to Ruth Anderson
  (randerson@holytrinityakron.org).
X-ALT-DESC;FMTTYPE=text/html:<div class=page-restrict-output><p>An AGO
  Luncheon will precede a Workshop given by Bruce Neswick. Luncheon RSV
 Ps are requested by Monday\, May 15 to Ruth Anderson (<a href=&#x6d\;&
 #x61\;&#105\;&#108\;t&#x6f\;&#x3a\;&#x72\;&#97\;nd&#x65\;&#x72\;&#115\
 ;&#111\;n&#x40\;&#x68\;&#x6f\;&#108\;yt&#x72\;&#x69\;&#110\;&#105\;t&#
 x79\;&#x61\;&#x6b\;&#114\;on&#x2e\;&#x6f\;&#114\;&#103\;>&#x72\;&#x61\
 ;&#x6e\;&#x64\;&#x65\;&#x72\;&#x73\;&#x6f\;&#x6e\;&#x40\;&#x68\;&#x6f\
 ;&#x6c\;&#x79\;&#x74\;&#x72\;&#x69\;&#x6e\;&#x69\;&#x74\;&#x79\;&#x61\
 ;&#107\;&#114\;&#111\;&#110\;&#46\;&#111\;&#114\;&#103\;</a>).</p>\n</
 div>
URL:https://akronago.org/events/ago-luncheon/?lang=en
ATTACH:https://akronago.org/events/ago-luncheon/?lang=en
ATTACH:https://akronago.org/wp-content/uploads/holy-trinity-lutheran-t
 ower-1-150x150.png
LOCATION:Holy Trinity Lutheran (Akron)\, 50 North Prospect St\, Akron
END:VEVENT
END:VCALENDAR
