BEGIN:VCALENDAR
VERSION:2.0
METHOD:PUBLISH
PRODID:-//hacksw/handcal//NONSGML v1.0//EN
BEGIN:VEVENT
DTSTAMP:20260423T111913Z
DTSTART:20221014T233000Z
DTEND:20221015T035959Z
UID:20221014T233000Z-20221015T035959Z-463@akronago.org
SUMMARY:Apollo's Fire: Monteverdi Vespers of 1610
DESCRIPTION:RSVP for 5:30 Dinner\, Concert
X-ALT-DESC;FMTTYPE=text/html:<div class=page-restrict-output><p><a hre
 f=https://akronago.org/dinner-apollos-fire-rsvp/>RSVP for 5:30 Dinner\
 , Concert</a></p>\n</div>
URL:https://akronago.org/events/apollos-fire-monteverdi-vespers-of-161
 0/?lang=en
ATTACH:https://akronago.org/events/apollos-fire-monteverdi-vespers-of-
 1610/?lang=en
LOCATION:St Paul's Episcopal (Akron)\, 1361 W Market St\, Akron
END:VEVENT
END:VCALENDAR
