BEGIN:VCALENDAR
VERSION:2.0
METHOD:PUBLISH
PRODID:-//hacksw/handcal//NONSGML v1.0//EN
BEGIN:VEVENT
DTSTAMP:20260423T111828Z
DTSTART:20221014T213000Z
DTEND:20221015T035959Z
UID:20221014T213000Z-20221015T035959Z-462@akronago.org
SUMMARY:Pre-Concert Dinner
DESCRIPTION:Dinner preceding the Apollo's Fire concert (7:30 pm) at St
 . Paul's Episcopal Church.
X-ALT-DESC;FMTTYPE=text/html:<div class=page-restrict-output><p>Dinner
  preceding the Apollo's Fire concert (7:30 pm) at St. Paul's Episcopal
  Church.</p>\n</div>
URL:https://akronago.org/events/pre-concert-dinner/?lang=en
ATTACH:https://akronago.org/events/pre-concert-dinner/?lang=en
LOCATION:Mustard Seed (Highland Square\, Akron)\, 867 W Market St\, Ak
 ron
END:VEVENT
END:VCALENDAR
