BEGIN:VCALENDAR
VERSION:2.0
METHOD:PUBLISH
PRODID:-//hacksw/handcal//NONSGML v1.0//EN
BEGIN:VEVENT
DTSTAMP:20260423T111655Z
DTSTART:20220423T140000Z
DTEND:20220424T035959Z
UID:20220423T140000Z-20220424T035959Z-461@akronago.org
SUMMARY:Online Workshop with Marek Kudlicki
DESCRIPTION:Thanks to the wonders of technology\, Marek Kudlicki will 
 make his scheduled workshop presentation to us via the internet. Gathe
 r to hear about a number of organs in Poland\, see photos and hear rec
 ordings of them. Learn first-hand from an award-winning professional r
 ecitalist what contributions these instruments make to the world. Join
  us on Saturday\, April 23 at 10:00am ET. Click here to register for t
 his class.\n\n 
X-ALT-DESC;FMTTYPE=text/html:<div class=page-restrict-output><div>\n<d
 iv>Thanks to the wonders of technology\, <strong>Marek Kudlicki</stron
 g> will make his scheduled workshop presentation to us via the interne
 t. Gather to hear about a number of organs in Poland\, see photos and 
 hear recordings of them. Learn first-hand from an award-winning profes
 sional recitalist what contributions these instruments make to the wor
 ld. Join us on Saturday\, April 23 at 10:00am ET. <a href=https://webi
 nar.getresponse.com/M8Ogf/lecture-on-polish-historic-organs>Click here
  to register for this class.</a></div>\n</div>\n<div><span style=color
 : #000000\;font-family: arial\, sans-serif> </span></div>\n<div></div>
 \n</div>
URL:https://akronago.org/events/online-workshop-with-marek-kudlicki/?l
 ang=en
ATTACH:https://akronago.org/events/online-workshop-with-marek-kudlicki
 /?lang=en
ATTACH:https://akronago.org/wp-content/uploads/Kudlicki_Marek-150x150.
 jpg
END:VEVENT
END:VCALENDAR
