BEGIN:VCALENDAR
VERSION:2.0
METHOD:PUBLISH
PRODID:-//hacksw/handcal//NONSGML v1.0//EN
BEGIN:VEVENT
DTSTAMP:20260423T111912Z
DTSTART:20220220T200000Z
DTEND:20220221T035959Z
UID:20220220T200000Z-20220221T035959Z-460@akronago.org
SUMMARY:Members’ Recital & Open Console
DESCRIPTION:On Sunday afternoon\, February 20th\, we will have a small
  recital/demonstration of the Faith Lutheran organ first\, then we wil
 l have open console time. Indeed\, everyone is invited to come up and 
 play the instrument. It is a Rodgers-Schantz hybrid with over 400 addi
 tional digital voices to the original 1969 Schantz instrument. So\, pl
 ease bring something to play—perhaps something you wouldn’t play regul
 arly in church—to try out some of the many colors of the instrument. I
 t’s a big box of crayons\, so to speak!\n\nFor a little inspiration\, 
 here’s a link to Bob Mollard demonstrating the instrument:\nhttps://yo
 utu.be/7rS5xEbdqfc
X-ALT-DESC;FMTTYPE=text/html:<div class=page-restrict-output><div clas
 s=eqstyle2>On Sunday afternoon\, February 20th\, we will have a small 
 recital/demonstration of the Faith Lutheran organ first\, then we will
  have open console time. Indeed\, everyone is invited to come up and p
 lay the instrument. It is a Rodgers-Schantz hybrid with over 400 addit
 ional digital voices to the original 1969 Schantz instrument. So\, ple
 ase bring something to play—perhaps something you wouldn’t play regula
 rly in church—to try out some of the many colors of the instrument. It
 ’s a big box of crayons\, so to speak!</div>\n<div class=eqstyle2></di
 v>\n<div class=eqstyle2>For a little inspiration\, here’s a link to Bo
 b Mollard demonstrating the instrument:</div>\n<div class=eqstyle2><a 
 href=https://youtu.be/7rS5xEbdqfc>https://youtu.be/7rS5xEbdqfc</a></di
 v>\n</div>
URL:https://akronago.org/events/members-e2-80-99-recital-open-console/
 ?lang=en
ATTACH:https://akronago.org/events/members-e2-80-99-recital-open-conso
 le/?lang=en
ATTACH:https://akronago.org/wp-content/uploads/Faith-Lutheran-console-
 150x150.jpg
LOCATION:Faith Lutheran (Akron)\, 2726 W Market St\, Akron
END:VEVENT
END:VCALENDAR
