BEGIN:VCALENDAR
VERSION:2.0
METHOD:PUBLISH
PRODID:-//hacksw/handcal//NONSGML v1.0//EN
BEGIN:VEVENT
DTSTAMP:20260423T111653Z
DTSTART:20110227T200000Z
DTEND:20110227T040000Z
UID:20110227T200000Z-20110227T040000Z-46@akronago.org
SUMMARY:On the Wings of His Love
DESCRIPTION:Peace Together Choir is a group of musicians that have com
 e together to provide music for families and patients of hospice.
X-ALT-DESC;FMTTYPE=text/html:<div class=page-restrict-output><p>Peace 
 Together Choir is a group of musicians that have come together to prov
 ide music for families and patients of hospice.</p>\n</div>
URL:https://akronago.org/events/46/on-the-wings-of-his-love/?lang=en
ATTACH:https://akronago.org/events/46/on-the-wings-of-his-love/?lang=e
 n
LOCATION:St Sebastian RC (Akron)\, 476 Mull Ave\, Akron
END:VEVENT
END:VCALENDAR
