BEGIN:VCALENDAR
VERSION:2.0
METHOD:PUBLISH
PRODID:-//hacksw/handcal//NONSGML v1.0//EN
BEGIN:VEVENT
DTSTAMP:20260423T111635Z
DTSTART:20211105T230000Z
DTEND:20211106T035959Z
UID:20211105T230000Z-20211106T035959Z-459@akronago.org
SUMMARY:Scott Montgomery
DESCRIPTION:THE LYNN FREY-STEWARD ORGAN SCHOLARSHIP CONCERT\n\nScott M
 ontgomery\n\nFriday\, November 5 at 7pm\n \nSt. Sebastian Church\, \n4
 76 Mull Ave.\, Akron\n \nCo-sponsored by the Akron Chapter AGO
X-ALT-DESC;FMTTYPE=text/html:<div class=page-restrict-output><div><spa
 n style=font-family: Verdana\, sans-serif>THE LYNN FREY-STEWARD ORGAN 
 SCHOLARSHIP CONCERT</span></div>\n<div>\n<h2><span style=color: #ff2d2
 2\;font-family: Verdana\, sans-serif>Scott Montgomery</span></h2>\n</d
 iv>\n<div><b><span style=color: #165878\;font-family: Verdana\, sans-s
 erif>Friday\, November 5 at 7pm</span></b></div>\n<div><b><span style=
 font-family: Verdana\, sans-serif> </span></b></div>\n<div><span style
 =color: #165878\;font-family: Verdana\, sans-serif><b><i>St. Sebastian
  Church\, </i></b></span></div>\n<div><span style=color: #165878\;font
 -family: Verdana\, sans-serif><b><i>476 Mull Ave.\, Akron</i></b></spa
 n></div>\n<div><span style=font-family: Verdana\, sans-serif> </span><
 /div>\n<div><i><span style=color: #165878\;font-family: Verdana\, sans
 -serif>Co-sponsored by the Akron Chapter AGO</span></i></div>\n</div>
URL:https://akronago.org/events/scott-montgomery/?lang=en
ATTACH:https://akronago.org/events/scott-montgomery/?lang=en
ATTACH:https://akronago.org/wp-content/uploads/montgomery-17-lrg-150x1
 50.jpg
LOCATION:St Sebastian RC (Akron)\, 476 Mull Ave\, Akron
END:VEVENT
END:VCALENDAR
